BEGIN:VCALENDAR
VERSION:2.0
PRODID:-//Melanie Ryan Music - ECPv6.15.20//NONSGML v1.0//EN
CALSCALE:GREGORIAN
METHOD:PUBLISH
X-WR-CALNAME:Melanie Ryan Music
X-ORIGINAL-URL:https://melanieryanmusic.com
X-WR-CALDESC:Evenementen voor Melanie Ryan Music
REFRESH-INTERVAL;VALUE=DURATION:PT1H
X-Robots-Tag:noindex
X-PUBLISHED-TTL:PT1H
BEGIN:VTIMEZONE
TZID:Europe/Amsterdam
BEGIN:DAYLIGHT
TZOFFSETFROM:+0100
TZOFFSETTO:+0200
TZNAME:CEST
DTSTART:20240331T010000
END:DAYLIGHT
BEGIN:STANDARD
TZOFFSETFROM:+0200
TZOFFSETTO:+0100
TZNAME:CET
DTSTART:20241027T010000
END:STANDARD
BEGIN:DAYLIGHT
TZOFFSETFROM:+0100
TZOFFSETTO:+0200
TZNAME:CEST
DTSTART:20250330T010000
END:DAYLIGHT
BEGIN:STANDARD
TZOFFSETFROM:+0200
TZOFFSETTO:+0100
TZNAME:CET
DTSTART:20251026T010000
END:STANDARD
BEGIN:DAYLIGHT
TZOFFSETFROM:+0100
TZOFFSETTO:+0200
TZNAME:CEST
DTSTART:20260329T010000
END:DAYLIGHT
BEGIN:STANDARD
TZOFFSETFROM:+0200
TZOFFSETTO:+0100
TZNAME:CET
DTSTART:20261025T010000
END:STANDARD
END:VTIMEZONE
BEGIN:VEVENT
DTSTART;TZID=Europe/Amsterdam:20250824T134500
DTEND;TZID=Europe/Amsterdam:20250824T164500
DTSTAMP:20260421T191130
CREATED:20250316T185923Z
LAST-MODIFIED:20250316T185923Z
UID:10000077-1756043100-1756053900@melanieryanmusic.com
SUMMARY:HOPPAAA! Festival Nieuwegein
DESCRIPTION:Ben je op zoek naar een smakelijk uitje tijdens Pasen? Van zaterdag 19 april tot en met maandag 21 april kun je in Breukelen terecht voor het sfeervolle foodtruckfestival HOPPAAA!. Proef van diverse culinaire hoogstandjes en geniet van verfrissende drankjes in een gezellige setting. Alle details over dit evenement vind je op deze pagina! \nWij\, Loek Hartog en Gera van Vliet\, zijn Evenementenorganisatie Bruisend! Gedreven en vol enthousiasme zijn wij o.a. gespecialiseerd in het organiseren van Foodtruck Festivals. Dit doen wij onder de naam: HOPPAAA!. Meer informatie over de festivals en over het inschrijven staat op de homepage van deze site.
URL:https://melanieryanmusic.com/event/hoppaaa-festival-nieuwegein/
LOCATION:Park Kokke Bogaard\, Park Kokke Bogaard\, Nieuwegein\, Nederland
CATEGORIES:Festival
ATTACH;FMTTYPE=image/jpeg:https://melanieryanmusic.com/wp-content/uploads/2024/05/Agenda_Festivals_HOPPAAA-767x1024-1.jpg
END:VEVENT
BEGIN:VEVENT
DTSTART;TZID=Europe/Amsterdam:20250817T140000
DTEND;TZID=Europe/Amsterdam:20250817T170000
DTSTAMP:20260421T191130
CREATED:20250316T185210Z
LAST-MODIFIED:20250316T185430Z
UID:10000076-1755439200-1755450000@melanieryanmusic.com
SUMMARY:HOPPAAA! Festival Enkhuizen
DESCRIPTION:Ben je op zoek naar een smakelijk uitje tijdens Pasen? Van zaterdag 19 april tot en met maandag 21 april kun je in Breukelen terecht voor het sfeervolle foodtruckfestival HOPPAAA!. Proef van diverse culinaire hoogstandjes en geniet van verfrissende drankjes in een gezellige setting. Alle details over dit evenement vind je op deze pagina! \nWij\, Loek Hartog en Gera van Vliet\, zijn Evenementenorganisatie Bruisend! Gedreven en vol enthousiasme zijn wij o.a. gespecialiseerd in het organiseren van Foodtruck Festivals. Dit doen wij onder de naam: HOPPAAA!.Meer informatie over de festivals en over het inschrijven staat op de homepage van deze site.
URL:https://melanieryanmusic.com/event/hoppaaa-festival-enkhuizen/
LOCATION:Het Landje van Top\, Het Landje van Top\, Enkhuizen\, 1601 GD
CATEGORIES:Festival
ATTACH;FMTTYPE=image/jpeg:https://melanieryanmusic.com/wp-content/uploads/2024/05/Agenda_Festivals_HOPPAAA-767x1024-1.jpg
END:VEVENT
BEGIN:VEVENT
DTSTART;TZID=Europe/Amsterdam:20250609T134500
DTEND;TZID=Europe/Amsterdam:20250609T164500
DTSTAMP:20260421T191130
CREATED:20250419T103337Z
LAST-MODIFIED:20250419T103337Z
UID:10000083-1749476700-1749487500@melanieryanmusic.com
SUMMARY:HOPPAAA! Festival Hilversum
DESCRIPTION:Een weekend vol heerlijk eten en drinken. Heerlijke gerechten\, biertjes en wijntjes\, workshops en activiteiten. Dit Foodtruckfestival is voor iedereen; jong en oud. Dit jaar vind HOPPAAA! Hilversum plaats van zaterdag 7 t/m maandag 9 juni. Kom genieten en laat je smaakpapillen verrassen. \nWij\, Loek Hartog en Gera van Vliet\, zijn Evenementenorganisatie Bruisend! Gedreven en vol enthousiasme zijn wij o.a. gespecialiseerd in het organiseren van Foodtruck Festivals. Dit doen wij onder de naam: HOPPAAA!. Meer informatie over de festivals en over het inschrijven staat op de homepage van deze site.
URL:https://melanieryanmusic.com/event/hoppaaa-festival-hilversum/
LOCATION:Dudokpark\, Dudpokpark\, Hilversum\, 1217 JE
CATEGORIES:Festival
ATTACH;FMTTYPE=image/jpeg:https://melanieryanmusic.com/wp-content/uploads/2024/05/Agenda_Festivals_HOPPAAA-767x1024-1.jpg
END:VEVENT
BEGIN:VEVENT
DTSTART;TZID=Europe/Amsterdam:20250420T134500
DTEND;TZID=Europe/Amsterdam:20250420T164500
DTSTAMP:20260421T191130
CREATED:20250316T172057Z
LAST-MODIFIED:20250316T172153Z
UID:10000071-1745156700-1745167500@melanieryanmusic.com
SUMMARY:HOPPAAA! Festival Breukelen
DESCRIPTION:Ben je op zoek naar een smakelijk uitje tijdens Pasen? Van zaterdag 19 april tot en met maandag 21 april kun je in Breukelen terecht voor het sfeervolle foodtruckfestival HOPPAAA!. Proef van diverse culinaire hoogstandjes en geniet van verfrissende drankjes in een gezellige setting. Alle details over dit evenement vind je op deze pagina! \nWij\, Loek Hartog en Gera van Vliet\, zijn Evenementenorganisatie Bruisend! Gedreven en vol enthousiasme zijn wij o.a. gespecialiseerd in het organiseren van Foodtruck Festivals. Dit doen wij onder de naam: HOPPAAA!.Meer informatie over de festivals en over het inschrijven staat op de homepage van deze site.
URL:https://melanieryanmusic.com/event/hoppaaa-festival-breukelen/
LOCATION:Markt 13\, Markt 13\, Breukelen\, 3621 AB
CATEGORIES:Festival
ATTACH;FMTTYPE=image/jpeg:https://melanieryanmusic.com/wp-content/uploads/2024/05/Agenda_Festivals_HOPPAAA-767x1024-1.jpg
END:VEVENT
END:VCALENDAR