BEGIN:VCALENDAR
VERSION:2.0
PRODID:-//Melanie Ryan Music - ECPv6.15.20//NONSGML v1.0//EN
CALSCALE:GREGORIAN
METHOD:PUBLISH
X-WR-CALNAME:Melanie Ryan Music
X-ORIGINAL-URL:https://melanieryanmusic.com
X-WR-CALDESC:Evenementen voor Melanie Ryan Music
REFRESH-INTERVAL;VALUE=DURATION:PT1H
X-Robots-Tag:noindex
X-PUBLISHED-TTL:PT1H
BEGIN:VTIMEZONE
TZID:Europe/Amsterdam
BEGIN:DAYLIGHT
TZOFFSETFROM:+0100
TZOFFSETTO:+0200
TZNAME:CEST
DTSTART:20240331T010000
END:DAYLIGHT
BEGIN:STANDARD
TZOFFSETFROM:+0200
TZOFFSETTO:+0100
TZNAME:CET
DTSTART:20241027T010000
END:STANDARD
BEGIN:DAYLIGHT
TZOFFSETFROM:+0100
TZOFFSETTO:+0200
TZNAME:CEST
DTSTART:20250330T010000
END:DAYLIGHT
BEGIN:STANDARD
TZOFFSETFROM:+0200
TZOFFSETTO:+0100
TZNAME:CET
DTSTART:20251026T010000
END:STANDARD
BEGIN:DAYLIGHT
TZOFFSETFROM:+0100
TZOFFSETTO:+0200
TZNAME:CEST
DTSTART:20260329T010000
END:DAYLIGHT
BEGIN:STANDARD
TZOFFSETFROM:+0200
TZOFFSETTO:+0100
TZNAME:CET
DTSTART:20261025T010000
END:STANDARD
END:VTIMEZONE
BEGIN:VEVENT
DTSTART;TZID=Europe/Amsterdam:20250403T143000
DTEND;TZID=Europe/Amsterdam:20250403T170000
DTSTAMP:20260423T104417
CREATED:20241217T163502Z
LAST-MODIFIED:20250118T122816Z
UID:7938-1743690600-1743699600@melanieryanmusic.com
SUMMARY:What Would Dolly Do? Theatershow
DESCRIPTION:Fan van Dolly Parton en van het ontdekken van nieuwe muziek? Dan bent u bij deze show aan het juiste adres! What Would Dolly Do? is een inspirerende\, muzikale theatershow waarin singer-songwriter Melanie Ryan u meeneemt op haar muzikale missie. \nMuzikale reis  \nGeïnspireerd door haar grote idool Dolly Parton vertelt Melanie over haar muzikale reis als beginnende singer-songwriter\, het ontdekken van haar eigen muzikale identiteit\, haar studiereis naar Nashville en uiteraard veel anekdotes en verhalen over haar idool Dolly Parton. Kortom: een avond vol nieuwe songs en bekende covers in ‘Nashville style’ die u niet wilt missen!
URL:https://melanieryanmusic.com/event/what-would-dolly-do-theatershow/
LOCATION:De Goudse Schouwburg\, Boelekade 67\, Gouda\, 2806 AE
CATEGORIES:Theatershow,Uitgelicht
ATTACH;FMTTYPE=image/jpeg:https://melanieryanmusic.com/wp-content/uploads/2024/11/WWDD_post-vierkant.jpg
END:VEVENT
END:VCALENDAR