BEGIN:VCALENDAR
VERSION:2.0
PRODID:-//Melanie Ryan Music - ECPv6.15.20//NONSGML v1.0//EN
CALSCALE:GREGORIAN
METHOD:PUBLISH
X-WR-CALNAME:Melanie Ryan Music
X-ORIGINAL-URL:https://melanieryanmusic.com
X-WR-CALDESC:Evenementen voor Melanie Ryan Music
REFRESH-INTERVAL;VALUE=DURATION:PT1H
X-Robots-Tag:noindex
X-PUBLISHED-TTL:PT1H
BEGIN:VTIMEZONE
TZID:Europe/Amsterdam
BEGIN:DAYLIGHT
TZOFFSETFROM:+0100
TZOFFSETTO:+0200
TZNAME:CEST
DTSTART:20250330T010000
END:DAYLIGHT
BEGIN:STANDARD
TZOFFSETFROM:+0200
TZOFFSETTO:+0100
TZNAME:CET
DTSTART:20251026T010000
END:STANDARD
BEGIN:DAYLIGHT
TZOFFSETFROM:+0100
TZOFFSETTO:+0200
TZNAME:CEST
DTSTART:20260329T010000
END:DAYLIGHT
BEGIN:STANDARD
TZOFFSETFROM:+0200
TZOFFSETTO:+0100
TZNAME:CET
DTSTART:20261025T010000
END:STANDARD
BEGIN:DAYLIGHT
TZOFFSETFROM:+0100
TZOFFSETTO:+0200
TZNAME:CEST
DTSTART:20270328T010000
END:DAYLIGHT
BEGIN:STANDARD
TZOFFSETFROM:+0200
TZOFFSETTO:+0100
TZNAME:CET
DTSTART:20271031T010000
END:STANDARD
END:VTIMEZONE
BEGIN:VEVENT
DTSTART;TZID=Europe/Amsterdam:20260717T180000
DTEND;TZID=Europe/Amsterdam:20260717T210000
DTSTAMP:20260423T121012
CREATED:20260310T153042Z
LAST-MODIFIED:20260403T105832Z
UID:8556-1784311200-1784322000@melanieryanmusic.com
SUMMARY:Wandern & Whisky Festival (DE)
DESCRIPTION:Kein gewöhnliches Festival\, sondern ein Erlebnis\, das mit Herz\, Charme & Qualität glänzt! \nSei hautnah dabei\, wenn Musiker\, die sonst die großen Bühnen rocken\, Dich in einer gemütlichen Kulisse das Leben genießen lassen. Leckeres Streetfood\, erfrischende Drinks\, großartige Menschen und ein cooles Rahmenprogramm machen das Abenteuer besonders und einzigartig!
URL:https://melanieryanmusic.com/event/wandern-whisky-festival-de/
LOCATION:WanderBar\, Theodor-Ernst-Straße 5\, Rüthen\, 59602\, Germany
CATEGORIES:Festival
ATTACH;FMTTYPE=image/jpeg:https://melanieryanmusic.com/wp-content/uploads/2026/03/IMG_5414.jpg
END:VEVENT
END:VCALENDAR