BEGIN:VCALENDAR
VERSION:2.0
PRODID:-//Melanie Ryan Music - ECPv6.15.20//NONSGML v1.0//EN
CALSCALE:GREGORIAN
METHOD:PUBLISH
X-WR-CALNAME:Melanie Ryan Music
X-ORIGINAL-URL:https://melanieryanmusic.com
X-WR-CALDESC:Evenementen voor Melanie Ryan Music
REFRESH-INTERVAL;VALUE=DURATION:PT1H
X-Robots-Tag:noindex
X-PUBLISHED-TTL:PT1H
BEGIN:VTIMEZONE
TZID:Europe/Amsterdam
BEGIN:DAYLIGHT
TZOFFSETFROM:+0100
TZOFFSETTO:+0200
TZNAME:CEST
DTSTART:20250330T010000
END:DAYLIGHT
BEGIN:STANDARD
TZOFFSETFROM:+0200
TZOFFSETTO:+0100
TZNAME:CET
DTSTART:20251026T010000
END:STANDARD
BEGIN:DAYLIGHT
TZOFFSETFROM:+0100
TZOFFSETTO:+0200
TZNAME:CEST
DTSTART:20260329T010000
END:DAYLIGHT
BEGIN:STANDARD
TZOFFSETFROM:+0200
TZOFFSETTO:+0100
TZNAME:CET
DTSTART:20261025T010000
END:STANDARD
BEGIN:DAYLIGHT
TZOFFSETFROM:+0100
TZOFFSETTO:+0200
TZNAME:CEST
DTSTART:20270328T010000
END:DAYLIGHT
BEGIN:STANDARD
TZOFFSETFROM:+0200
TZOFFSETTO:+0100
TZNAME:CET
DTSTART:20271031T010000
END:STANDARD
END:VTIMEZONE
BEGIN:VEVENT
DTSTART;TZID=Europe/Amsterdam:20260723T173000
DTEND;TZID=Europe/Amsterdam:20260723T210000
DTSTAMP:20260423T134036
CREATED:20260403T110655Z
LAST-MODIFIED:20260403T110655Z
UID:8582-1784827800-1784840400@melanieryanmusic.com
SUMMARY:Vierdaagsefeesten (bandshow)
DESCRIPTION:Op het groot­ste vrij toe­ganke­lijke even­e­ment van Ned­er­land laat heel Nijmegen zien wat ze in huis heeft: kies uit ruim 1000 optre­dens verdeeld over 40+ ver­schil­lende podia. Er is voor ieder wat wils\, of je nu van pop\, klassiek\, rock\, tech­no of jazz houdt. \nEen groot feest vier je samen met anderen. En reken maar dat dat tij­dens de Vier­daagse­feesten goed komt: feest samen met meer dan één miljoen andere bezoek­ers die gedurende zeven dagen in Nijmegen te vin­den zijn. Even weg uit de gezel­lige druk­te van de bin­nen­stad? Strijk neer in het park of op het strand\, of bezoek een exposi­tie\, the­ater­voorstelling\, work­shop of lezing. \nSamen met mijn Mel’s Angels band ben ik te zien bij HOLT Cocktails!
URL:https://melanieryanmusic.com/event/vierdaagsefeesten-bandshow/
LOCATION:HOLT C&C\, Houtstraat 75\, Nijmegen\, 6511 JM\, Nederland
CATEGORIES:Festival
ATTACH;FMTTYPE=image/jpeg:https://melanieryanmusic.com/wp-content/uploads/2025/04/Agenda_VierdaagseFeesten.jpg
END:VEVENT
END:VCALENDAR