BEGIN:VCALENDAR
VERSION:2.0
PRODID:-//Melanie Ryan Music - ECPv6.15.20//NONSGML v1.0//EN
CALSCALE:GREGORIAN
METHOD:PUBLISH
X-WR-CALNAME:Melanie Ryan Music
X-ORIGINAL-URL:https://melanieryanmusic.com
X-WR-CALDESC:Evenementen voor Melanie Ryan Music
REFRESH-INTERVAL;VALUE=DURATION:PT1H
X-Robots-Tag:noindex
X-PUBLISHED-TTL:PT1H
BEGIN:VTIMEZONE
TZID:Europe/Amsterdam
BEGIN:DAYLIGHT
TZOFFSETFROM:+0100
TZOFFSETTO:+0200
TZNAME:CEST
DTSTART:20250330T010000
END:DAYLIGHT
BEGIN:STANDARD
TZOFFSETFROM:+0200
TZOFFSETTO:+0100
TZNAME:CET
DTSTART:20251026T010000
END:STANDARD
BEGIN:DAYLIGHT
TZOFFSETFROM:+0100
TZOFFSETTO:+0200
TZNAME:CEST
DTSTART:20260329T010000
END:DAYLIGHT
BEGIN:STANDARD
TZOFFSETFROM:+0200
TZOFFSETTO:+0100
TZNAME:CET
DTSTART:20261025T010000
END:STANDARD
BEGIN:DAYLIGHT
TZOFFSETFROM:+0100
TZOFFSETTO:+0200
TZNAME:CEST
DTSTART:20270328T010000
END:DAYLIGHT
BEGIN:STANDARD
TZOFFSETFROM:+0200
TZOFFSETTO:+0100
TZNAME:CET
DTSTART:20271031T010000
END:STANDARD
END:VTIMEZONE
BEGIN:VEVENT
DTSTART;TZID=Europe/Amsterdam:20260501T190000
DTEND;TZID=Europe/Amsterdam:20260501T210000
DTSTAMP:20260423T104424
CREATED:20260309T183229Z
LAST-MODIFIED:20260403T083627Z
UID:8534-1777662000-1777669200@melanieryanmusic.com
SUMMARY:Texas Bar & Grill
DESCRIPTION:Waan je voor even in Texas en ervaar het saamhorigheidsgevoel\, het rijke overvloedige eten en de zuidelijke gastvrijheid van deze Lone Star State. Wanneer je binnenkomt in ons restaurant komt de geur van gegrild vlees je tegemoet\, je voelt de hitte en ziet hoe onze grillmasters die overheerlijke grote stukken vlees aan het klaarmaken zijn. Want je weet wat ze zeggen “Everything’s bigger in Texas” Ontdek nieuwe smaken en maak er een onvergetelijke ervaring van bij Texas Bar & Grill! See You Later!
URL:https://melanieryanmusic.com/event/texas-bar-grill/
LOCATION:Texas Bar & Grill\, Bredaseweg 20\, Terheijden\, 4844 CL
CATEGORIES:Optreden
ATTACH;FMTTYPE=image/png:https://melanieryanmusic.com/wp-content/uploads/2026/03/Screenshot-2026-03-09-at-19.30.33.png
END:VEVENT
END:VCALENDAR