BEGIN:VCALENDAR
VERSION:2.0
PRODID:-//Melanie Ryan Music - ECPv6.15.20//NONSGML v1.0//EN
CALSCALE:GREGORIAN
METHOD:PUBLISH
X-WR-CALNAME:Melanie Ryan Music
X-ORIGINAL-URL:https://melanieryanmusic.com
X-WR-CALDESC:Evenementen voor Melanie Ryan Music
REFRESH-INTERVAL;VALUE=DURATION:PT1H
X-Robots-Tag:noindex
X-PUBLISHED-TTL:PT1H
BEGIN:VTIMEZONE
TZID:Europe/Amsterdam
BEGIN:DAYLIGHT
TZOFFSETFROM:+0100
TZOFFSETTO:+0200
TZNAME:CEST
DTSTART:20250330T010000
END:DAYLIGHT
BEGIN:STANDARD
TZOFFSETFROM:+0200
TZOFFSETTO:+0100
TZNAME:CET
DTSTART:20251026T010000
END:STANDARD
BEGIN:DAYLIGHT
TZOFFSETFROM:+0100
TZOFFSETTO:+0200
TZNAME:CEST
DTSTART:20260329T010000
END:DAYLIGHT
BEGIN:STANDARD
TZOFFSETFROM:+0200
TZOFFSETTO:+0100
TZNAME:CET
DTSTART:20261025T010000
END:STANDARD
BEGIN:DAYLIGHT
TZOFFSETFROM:+0100
TZOFFSETTO:+0200
TZNAME:CEST
DTSTART:20270328T010000
END:DAYLIGHT
BEGIN:STANDARD
TZOFFSETFROM:+0200
TZOFFSETTO:+0100
TZNAME:CET
DTSTART:20271031T010000
END:STANDARD
END:VTIMEZONE
BEGIN:VEVENT
DTSTART;TZID=Europe/Amsterdam:20260327T200000
DTEND;TZID=Europe/Amsterdam:20260327T230000
DTSTAMP:20260420T104629
CREATED:20260306T110033Z
LAST-MODIFIED:20260306T110033Z
UID:8524-1774641600-1774652400@melanieryanmusic.com
SUMMARY:Support show Mercy John
DESCRIPTION:Mercy John slaat een spannende nieuwe weg in. Na jarenlang naam te hebben gemaakt in de Americana-scene\, komen hij en zijn band met een energieke mix van pop\, rock en indie die gemaakt is voor de poppodia en festivalweides. Denk aan krachtige refreinen\, opzwepende ritmes en een aanstekelijke energie. Met af en toe een sprankje Springsteen en een 80’s synthesizer. \nMercy John presenteerde in oktober ’25 zijn nieuwe album Stereocolor\, een frisse mix van pop\, rock en indie met sterke refreinen\, 80’s-invloeden en energieke livesound. Het album\, geproduceerd door Peter Slager (Bløf) en gemixt door Huub Reijnders (o.a. Di-rect\, Rondé)\, weerspiegelt het contrast in Johns leven: extravert op het podium\, introvert in het dagelijks bestaan. Samen met zijn 6-koppige band brengt hij gelaagde\, krachtige songs die live tot volle kracht komen. \nSupport: Melanie Ryan\n\n\nEen dromenjager met een innerlijke criticus; zo zou je de 25-jarige singer-songwriter Melanie Ryan het beste kunnen omschrijven. Met haar mix van country\, pop en folk – of zoals ze het zelf noemt: “Braided Style Country” – vertelt ze verhalen over haar roots\, haar muzikale reis en de liefde.
URL:https://melanieryanmusic.com/event/support-show-mercy-john/
LOCATION:De Spot\, Beddewijkstraat 15\, Middelburg\, 4331 LP
CATEGORIES:Support show
ATTACH;FMTTYPE=image/jpeg:https://melanieryanmusic.com/wp-content/uploads/2025/12/Agenda_solo-show.jpg
END:VEVENT
END:VCALENDAR