BEGIN:VCALENDAR
VERSION:2.0
PRODID:-//Melanie Ryan Music - ECPv6.15.20//NONSGML v1.0//EN
CALSCALE:GREGORIAN
METHOD:PUBLISH
X-WR-CALNAME:Melanie Ryan Music
X-ORIGINAL-URL:https://melanieryanmusic.com
X-WR-CALDESC:Evenementen voor Melanie Ryan Music
REFRESH-INTERVAL;VALUE=DURATION:PT1H
X-Robots-Tag:noindex
X-PUBLISHED-TTL:PT1H
BEGIN:VTIMEZONE
TZID:Europe/Amsterdam
BEGIN:DAYLIGHT
TZOFFSETFROM:+0100
TZOFFSETTO:+0200
TZNAME:CEST
DTSTART:20250330T010000
END:DAYLIGHT
BEGIN:STANDARD
TZOFFSETFROM:+0200
TZOFFSETTO:+0100
TZNAME:CET
DTSTART:20251026T010000
END:STANDARD
BEGIN:DAYLIGHT
TZOFFSETFROM:+0100
TZOFFSETTO:+0200
TZNAME:CEST
DTSTART:20260329T010000
END:DAYLIGHT
BEGIN:STANDARD
TZOFFSETFROM:+0200
TZOFFSETTO:+0100
TZNAME:CET
DTSTART:20261025T010000
END:STANDARD
BEGIN:DAYLIGHT
TZOFFSETFROM:+0100
TZOFFSETTO:+0200
TZNAME:CEST
DTSTART:20270328T010000
END:DAYLIGHT
BEGIN:STANDARD
TZOFFSETFROM:+0200
TZOFFSETTO:+0100
TZNAME:CET
DTSTART:20271031T010000
END:STANDARD
END:VTIMEZONE
BEGIN:VEVENT
DTSTART;TZID=Europe/Amsterdam:20260531T120000
DTEND;TZID=Europe/Amsterdam:20260531T200000
DTSTAMP:20260423T140727
CREATED:20260309T185815Z
LAST-MODIFIED:20260309T185815Z
UID:8548-1780228800-1780257600@melanieryanmusic.com
SUMMARY:Skinny Lizard Festival
DESCRIPTION:Staat Skinny Lizard 2026 al in je agenda? Op deze 3de editie maar liefst 3! dagen genieten. Vrijdag 29\, Zaterdag 30 & Zondag 31 Mei. Én wat nieuw is dit jaar: de camping! \nZoals jullie van ons gewend zijn:\n☆ Goeie Country\, Blues- & Southern Rock Live Muziek!\n☆ Sfeervol Open Air Festivalterrein!\n☆ Hot Vibes & Cold Drinks!\n☆ American BBQ!\n☆ En meer… \nDe voorbereidingen zijn in volle gang. Onze line-up 2026 is volledig bekend gemaakt op onze socials en website.
URL:https://melanieryanmusic.com/event/skinny-lizard-festival/
LOCATION:Skinny Lizard Festival\, Apenhuizerenkweg\, Bathmen
CATEGORIES:Festival
ATTACH;FMTTYPE=image/png:https://melanieryanmusic.com/wp-content/uploads/2026/03/Screenshot-2026-03-09-at-19.56.57.png
END:VEVENT
END:VCALENDAR