BEGIN:VCALENDAR
VERSION:2.0
PRODID:-//Melanie Ryan Music - ECPv6.15.20//NONSGML v1.0//EN
CALSCALE:GREGORIAN
METHOD:PUBLISH
X-WR-CALNAME:Melanie Ryan Music
X-ORIGINAL-URL:https://melanieryanmusic.com
X-WR-CALDESC:Evenementen voor Melanie Ryan Music
REFRESH-INTERVAL;VALUE=DURATION:PT1H
X-Robots-Tag:noindex
X-PUBLISHED-TTL:PT1H
BEGIN:VTIMEZONE
TZID:Europe/Amsterdam
BEGIN:DAYLIGHT
TZOFFSETFROM:+0100
TZOFFSETTO:+0200
TZNAME:CEST
DTSTART:20240331T010000
END:DAYLIGHT
BEGIN:STANDARD
TZOFFSETFROM:+0200
TZOFFSETTO:+0100
TZNAME:CET
DTSTART:20241027T010000
END:STANDARD
BEGIN:DAYLIGHT
TZOFFSETFROM:+0100
TZOFFSETTO:+0200
TZNAME:CEST
DTSTART:20250330T010000
END:DAYLIGHT
BEGIN:STANDARD
TZOFFSETFROM:+0200
TZOFFSETTO:+0100
TZNAME:CET
DTSTART:20251026T010000
END:STANDARD
BEGIN:DAYLIGHT
TZOFFSETFROM:+0100
TZOFFSETTO:+0200
TZNAME:CEST
DTSTART:20260329T010000
END:DAYLIGHT
BEGIN:STANDARD
TZOFFSETFROM:+0200
TZOFFSETTO:+0100
TZNAME:CET
DTSTART:20261025T010000
END:STANDARD
END:VTIMEZONE
BEGIN:VEVENT
DTSTART;TZID=Europe/Amsterdam:20250629T143000
DTEND;TZID=Europe/Amsterdam:20250629T170000
DTSTAMP:20260422T105226
CREATED:20250316T183711Z
LAST-MODIFIED:20250416T093030Z
UID:8117-1751207400-1751216400@melanieryanmusic.com
SUMMARY:Melanie & Friends Zomer Editie
DESCRIPTION:Melanie Ryan verzorgt in 2024 en 2025 een weergaloze\, muzikale voorstelling samen met een andere gast artiest. Naast prachtige duetten en covers\, zingen beide artiesten ook nummers uit hun eigen repertoire. Melanie\, bekend van haar voorliefde voor Country muziek\, zal daarnaast haar muzikale “Friend” uitdagen om een song te doen uit haar eigen werk\, terwijl zij zelf een song van haar gast zal performen. Uiteraard geheel in hun eigen stijl. Laat u verbazen hoe mooi sommige liedjes kunnen klinken als ze vertolkt worden in een ander muziekgenre! \nDe gast artiest van deze voorstelling: Dolce Beringer!
URL:https://melanieryanmusic.com/event/melanie-friends-zomer-editie/
LOCATION:Fulcotheater\, IJsselstein\, Overtoom 3\, IJsselstein\, 3401 BK
CATEGORIES:Melanie & Friends,Uitgelicht
ATTACH;FMTTYPE=image/jpeg:https://melanieryanmusic.com/wp-content/uploads/2025/03/MF_post-vierkant-zomer.jpg
END:VEVENT
END:VCALENDAR