BEGIN:VCALENDAR
VERSION:2.0
PRODID:-//Melanie Ryan Music - ECPv6.15.20//NONSGML v1.0//EN
CALSCALE:GREGORIAN
METHOD:PUBLISH
X-WR-CALNAME:Melanie Ryan Music
X-ORIGINAL-URL:https://melanieryanmusic.com
X-WR-CALDESC:Evenementen voor Melanie Ryan Music
REFRESH-INTERVAL;VALUE=DURATION:PT1H
X-Robots-Tag:noindex
X-PUBLISHED-TTL:PT1H
BEGIN:VTIMEZONE
TZID:Europe/Amsterdam
BEGIN:DAYLIGHT
TZOFFSETFROM:+0100
TZOFFSETTO:+0200
TZNAME:CEST
DTSTART:20240331T010000
END:DAYLIGHT
BEGIN:STANDARD
TZOFFSETFROM:+0200
TZOFFSETTO:+0100
TZNAME:CET
DTSTART:20241027T010000
END:STANDARD
BEGIN:DAYLIGHT
TZOFFSETFROM:+0100
TZOFFSETTO:+0200
TZNAME:CEST
DTSTART:20250330T010000
END:DAYLIGHT
BEGIN:STANDARD
TZOFFSETFROM:+0200
TZOFFSETTO:+0100
TZNAME:CET
DTSTART:20251026T010000
END:STANDARD
BEGIN:DAYLIGHT
TZOFFSETFROM:+0100
TZOFFSETTO:+0200
TZNAME:CEST
DTSTART:20260329T010000
END:DAYLIGHT
BEGIN:STANDARD
TZOFFSETFROM:+0200
TZOFFSETTO:+0100
TZNAME:CET
DTSTART:20261025T010000
END:STANDARD
END:VTIMEZONE
BEGIN:VEVENT
DTSTART;TZID=Europe/Amsterdam:20250831T140000
DTEND;TZID=Europe/Amsterdam:20250831T170000
DTSTAMP:20260420T102414
CREATED:20250701T112343Z
LAST-MODIFIED:20250701T112343Z
UID:8282-1756648800-1756659600@melanieryanmusic.com
SUMMARY:Live Onder De Boom bij Bruin Kafee
DESCRIPTION:Zondag 31 augustus wordt Bruin Kafee in Tilburg omgetoverd tot een Nashville dive bar! Een gezellig\, akoestisch concert onder de boom. \n📍 Bruin Kafee – Tilburg\n🕑 Aanvang: 14:00 uur | Tot: 17:00 uur\n🎤 Live muziek | 🎸 Akoestisch | 🪕 Country feels
URL:https://melanieryanmusic.com/event/live-onder-de-boom/
LOCATION:Bruin Kafee\, Piusplein 4-5\, Tilburg\, 5038 WL
CATEGORIES:Optreden
ATTACH;FMTTYPE=image/jpeg:https://melanieryanmusic.com/wp-content/uploads/2025/07/Agenda_algemeen.jpg
END:VEVENT
END:VCALENDAR