BEGIN:VCALENDAR
VERSION:2.0
PRODID:-//Melanie Ryan Music - ECPv6.15.20//NONSGML v1.0//EN
CALSCALE:GREGORIAN
METHOD:PUBLISH
X-WR-CALNAME:Melanie Ryan Music
X-ORIGINAL-URL:https://melanieryanmusic.com
X-WR-CALDESC:Evenementen voor Melanie Ryan Music
REFRESH-INTERVAL;VALUE=DURATION:PT1H
X-Robots-Tag:noindex
X-PUBLISHED-TTL:PT1H
BEGIN:VTIMEZONE
TZID:Europe/Amsterdam
BEGIN:DAYLIGHT
TZOFFSETFROM:+0100
TZOFFSETTO:+0200
TZNAME:CEST
DTSTART:20240331T010000
END:DAYLIGHT
BEGIN:STANDARD
TZOFFSETFROM:+0200
TZOFFSETTO:+0100
TZNAME:CET
DTSTART:20241027T010000
END:STANDARD
BEGIN:DAYLIGHT
TZOFFSETFROM:+0100
TZOFFSETTO:+0200
TZNAME:CEST
DTSTART:20250330T010000
END:DAYLIGHT
BEGIN:STANDARD
TZOFFSETFROM:+0200
TZOFFSETTO:+0100
TZNAME:CET
DTSTART:20251026T010000
END:STANDARD
BEGIN:DAYLIGHT
TZOFFSETFROM:+0100
TZOFFSETTO:+0200
TZNAME:CEST
DTSTART:20260329T010000
END:DAYLIGHT
BEGIN:STANDARD
TZOFFSETFROM:+0200
TZOFFSETTO:+0100
TZNAME:CET
DTSTART:20261025T010000
END:STANDARD
END:VTIMEZONE
BEGIN:VEVENT
DTSTART;TZID=Europe/Amsterdam:20250406T133000
DTEND;TZID=Europe/Amsterdam:20250406T140000
DTSTAMP:20260423T104534
CREATED:20250316T171520Z
LAST-MODIFIED:20250316T171520Z
UID:8104-1743946200-1743948000@melanieryanmusic.com
SUMMARY:Culturele Zondag 'Beating Heart'
DESCRIPTION:Op 6 april 2025 kunnen bewoners en bezoekers van Utrecht genieten van een gratis toegankelijk cultureel festival de Culturele Zondag “Beating Heart”! Op het Jaarbeursplein en in bioscoop Kinepolis Jaarbeurs zijn de hele dag muziekoptredens\, sportworkshops\, theater en lezingen te bezoeken. Uiteraard is er ook een gezellig terras waar je kan genieten van een hapje en een drankje! \nDeze Culturele Zondag laat zien dat Utrecht de stad is waar je gezond stedelijk kan leven én dat er een sterke band is tussen cultuur en gezondheid. Want cultuur beleven én cultuur beoefenen zijn goed voor je mentale gezondheid! \nDe Culturele Zondag Beating Heart huisvest ook de officiële opening van de Dutch Health Week op 6 april. Een uniek event voor de inwoners van de stad en regio Utrecht en iedereen in Nederland die zich bezighoudt met gezondheid. Van 6 t/m 13 april 2025 worden er weer veel verschillende events en activiteiten georganiseerd. Wil je meer over weten\, check de website van Dutch Health Week \nMelanie Ryan speelt op het podium: Hersengolf
URL:https://melanieryanmusic.com/event/culturele-zondag-beating-heart/
LOCATION:Jaarbeursplein\, Jaarbeursplein\, Utrecht
CATEGORIES:Festival
ATTACH;FMTTYPE=image/jpeg:https://melanieryanmusic.com/wp-content/uploads/2025/03/Agenda_Culturele-zondagen.jpg
END:VEVENT
END:VCALENDAR