BEGIN:VCALENDAR
VERSION:2.0
PRODID:-//Melanie Ryan Music - ECPv6.15.20//NONSGML v1.0//EN
CALSCALE:GREGORIAN
METHOD:PUBLISH
X-ORIGINAL-URL:https://melanieryanmusic.com
X-WR-CALDESC:Evenementen voor Melanie Ryan Music
REFRESH-INTERVAL;VALUE=DURATION:PT1H
X-Robots-Tag:noindex
X-PUBLISHED-TTL:PT1H
BEGIN:VTIMEZONE
TZID:Europe/Paris
BEGIN:DAYLIGHT
TZOFFSETFROM:+0100
TZOFFSETTO:+0200
TZNAME:CEST
DTSTART:20230326T010000
END:DAYLIGHT
BEGIN:STANDARD
TZOFFSETFROM:+0200
TZOFFSETTO:+0100
TZNAME:CET
DTSTART:20231029T010000
END:STANDARD
BEGIN:DAYLIGHT
TZOFFSETFROM:+0100
TZOFFSETTO:+0200
TZNAME:CEST
DTSTART:20240331T010000
END:DAYLIGHT
BEGIN:STANDARD
TZOFFSETFROM:+0200
TZOFFSETTO:+0100
TZNAME:CET
DTSTART:20241027T010000
END:STANDARD
BEGIN:DAYLIGHT
TZOFFSETFROM:+0100
TZOFFSETTO:+0200
TZNAME:CEST
DTSTART:20250330T010000
END:DAYLIGHT
BEGIN:STANDARD
TZOFFSETFROM:+0200
TZOFFSETTO:+0100
TZNAME:CET
DTSTART:20251026T010000
END:STANDARD
END:VTIMEZONE
BEGIN:VEVENT
DTSTART;TZID=Europe/Paris:20241124T120000
DTEND;TZID=Europe/Paris:20241124T150000
DTSTAMP:20260423T121100
CREATED:20240818T182250Z
LAST-MODIFIED:20250131T144547Z
UID:10000035-1732449600-1732460400@melanieryanmusic.com
SUMMARY:Country & Christmas Fair
DESCRIPTION:Al 26 jaar een unieke Kerstbeleving in sprookjessferen\n\n\n\n\nDe Country & Christmas Fair is uitgegroeid tot de mooiste en meest gevarieerde Kerstfair van de Benelux! Vanaf het moment dat u door de toegangspoorten loopt ademt u kerst in fabelachtige sferen. Naast het neerzetten van een sfeervolle ambiance\, is het voor de organisatie iedere editie weer van groot belang om haar bezoekers een rijk aanbod aan stands te bieden. Zo wandelt u langs vele unieke stands\, ieder met een eigen en uniek aanbod. Met onder andere leuke kerstsnuisterijen\, delicatessen\, prachtige woonaccessoires\, antiek en kunst\, mode- en cosmeticaproducten en meer is het aanbod zeer divers te noemen! \nTijdens al dat kerstshoppen verbrand u de nodige energie die natuurlijk weer opgeladen dient te worden. Dit kan bij de vele stands die tal van lekkers bieden. Bijvoorbeeld een welverdiende kop Glühwein en de kids een portie oud-Hollandse poffertjes. \nAls het koude winterzonnetje achter de horizon is verdwenen\, lichten de kerstlichtjes de Country & Christmas – Fair Expo Greater Amsterdam\, in Vijfhuizen prachtig op; een waar kunstwerk om te aanschouwen. Ook worden de vuurkorven ontstoken en zijn de stands tot liefst 22:00 uur geopend om op uw gemak langs te kuieren. \nKortom\, de Country & Christmas – Expo Greater Amsterdam\, in Vijfhuizen is het event van Nederland om in die o zo heerlijke kerstsfeer te komen. Graag tot ziens!
URL:https://melanieryanmusic.com/event/country-christmas-fair-2/
LOCATION:Expo Greater\, Stelling 1\, Vijfhuizen\, 2141 SB\, Nederland
CATEGORIES:Optreden
ATTACH;FMTTYPE=image/jpeg:https://melanieryanmusic.com/wp-content/uploads/2024/08/Agenda_CCFair-e1730366312196.jpg
END:VEVENT
BEGIN:VEVENT
DTSTART;TZID=Europe/Paris:20241122T160000
DTEND;TZID=Europe/Paris:20241122T190000
DTSTAMP:20260423T121100
CREATED:20240818T182201Z
LAST-MODIFIED:20250131T144654Z
UID:10000034-1732291200-1732302000@melanieryanmusic.com
SUMMARY:Country & Christmas Fair
DESCRIPTION:Al 26 jaar een unieke Kerstbeleving in sprookjessferen\n\n\n\n\nDe Country & Christmas Fair is uitgegroeid tot de mooiste en meest gevarieerde Kerstfair van de Benelux! Vanaf het moment dat u door de toegangspoorten loopt ademt u kerst in fabelachtige sferen. Naast het neerzetten van een sfeervolle ambiance\, is het voor de organisatie iedere editie weer van groot belang om haar bezoekers een rijk aanbod aan stands te bieden. Zo wandelt u langs vele unieke stands\, ieder met een eigen en uniek aanbod. Met onder andere leuke kerstsnuisterijen\, delicatessen\, prachtige woonaccessoires\, antiek en kunst\, mode- en cosmeticaproducten en meer is het aanbod zeer divers te noemen! \nTijdens al dat kerstshoppen verbrand u de nodige energie die natuurlijk weer opgeladen dient te worden. Dit kan bij de vele stands die tal van lekkers bieden. Bijvoorbeeld een welverdiende kop Glühwein en de kids een portie oud-Hollandse poffertjes. \nAls het koude winterzonnetje achter de horizon is verdwenen\, lichten de kerstlichtjes de Country & Christmas – Fair Expo Greater Amsterdam\, in Vijfhuizen prachtig op; een waar kunstwerk om te aanschouwen. Ook worden de vuurkorven ontstoken en zijn de stands tot liefst 22:00 uur geopend om op uw gemak langs te kuieren. \nKortom\, de Country & Christmas – Expo Greater Amsterdam\, in Vijfhuizen is het event van Nederland om in die o zo heerlijke kerstsfeer te komen. Graag tot ziens!
URL:https://melanieryanmusic.com/event/country-christmas-fair/
LOCATION:Expo Greater\, Stelling 1\, Vijfhuizen\, 2141 SB\, Nederland
CATEGORIES:Optreden
ATTACH;FMTTYPE=image/jpeg:https://melanieryanmusic.com/wp-content/uploads/2024/08/Agenda_CCFair-e1730366312196.jpg
END:VEVENT
END:VCALENDAR