BEGIN:VCALENDAR
VERSION:2.0
PRODID:-//Melanie Ryan Music - ECPv6.15.20//NONSGML v1.0//EN
CALSCALE:GREGORIAN
METHOD:PUBLISH
X-WR-CALNAME:Melanie Ryan Music
X-ORIGINAL-URL:https://melanieryanmusic.com
X-WR-CALDESC:Evenementen voor Melanie Ryan Music
REFRESH-INTERVAL;VALUE=DURATION:PT1H
X-Robots-Tag:noindex
X-PUBLISHED-TTL:PT1H
BEGIN:VTIMEZONE
TZID:Europe/Amsterdam
BEGIN:DAYLIGHT
TZOFFSETFROM:+0100
TZOFFSETTO:+0200
TZNAME:CEST
DTSTART:20250330T010000
END:DAYLIGHT
BEGIN:STANDARD
TZOFFSETFROM:+0200
TZOFFSETTO:+0100
TZNAME:CET
DTSTART:20251026T010000
END:STANDARD
BEGIN:DAYLIGHT
TZOFFSETFROM:+0100
TZOFFSETTO:+0200
TZNAME:CEST
DTSTART:20260329T010000
END:DAYLIGHT
BEGIN:STANDARD
TZOFFSETFROM:+0200
TZOFFSETTO:+0100
TZNAME:CET
DTSTART:20261025T010000
END:STANDARD
BEGIN:DAYLIGHT
TZOFFSETFROM:+0100
TZOFFSETTO:+0200
TZNAME:CEST
DTSTART:20270328T010000
END:DAYLIGHT
BEGIN:STANDARD
TZOFFSETFROM:+0200
TZOFFSETTO:+0100
TZNAME:CET
DTSTART:20271031T010000
END:STANDARD
END:VTIMEZONE
BEGIN:VEVENT
DTSTART;TZID=Europe/Amsterdam:20260308T143000
DTEND;TZID=Europe/Amsterdam:20260308T163000
DTSTAMP:20260420T104818
CREATED:20251231T092523Z
LAST-MODIFIED:20260306T105157Z
UID:10000104-1772980200-1772987400@melanieryanmusic.com
SUMMARY:Melanie & Friends with Tom Cherry
DESCRIPTION:Melanie Ryan verzorgt in 2025 en 2026 een weergaloze\, muzikale voorstelling samen met een andere gast artiest. Naast prachtige duetten en covers\, zingen beide artiesten ook nummers uit hun eigen repertoire. Melanie\, bekend van haar voorliefde voor Country muziek\, zal daarnaast haar muzikale “Friend” uitdagen om een song te doen uit haar eigen werk\, terwijl zij zelf een song van haar gast zal performen. Uiteraard geheel in hun eigen stijl. Laat u verbazen hoe mooi sommige liedjes kunnen klinken als ze vertolkt worden in een ander muziekgenre! \nMet special guest: Tom Cherry! \nTom Cherry\nTom Cherry is een Nederlandse singer-songwriter die de tijdloze sound van country\, rockabilly en outlaw country nieuw leven inblaast. Met zijn warme baritonstem en authentieke uitstraling neemt hij het publiek mee naar de bars van Texas en de gevangenismuren van Folsom Prison. Tom heeft inmiddels gespeeld op de grote festivals zoals Down The Rabbit Hole\, Paaspop en Festyland. Momenteel vertolkt hij Johnny Cash in de theatershows van Memphis Rose en brengt hij met zijn band Tom Cherry’s Sinners binnenkort nieuw eigen materiaal uit!
URL:https://melanieryanmusic.com/event/melanie-friends-tom-cherry/
LOCATION:Fulcotheater\, IJsselstein\, Overtoom 3\, IJsselstein\, 3401 BK
CATEGORIES:Melanie & Friends,Uitgelicht
ATTACH;FMTTYPE=image/jpeg:https://melanieryanmusic.com/wp-content/uploads/2025/12/MF26_post-vierkant-lente.jpg
ORGANIZER;CN="Fulcotheater":MAILTO:kassa@fulcotheater.nl
END:VEVENT
END:VCALENDAR